BEGIN:VCALENDAR
VERSION:2.0
PRODID:-//wp-events-plugin.com//6.6.4.4//EN
BEGIN:VEVENT
UID:427@strategieonweb.it
DTSTART;VALUE=DATE:20221013
DTEND;VALUE=DATE:20221015
DTSTAMP:20221012T110910Z
URL:https://www.strategieonweb.it/ecm/xiv-convegno-nazionale-cleo-gli-scen
 ari-post-pandemici-dellepatologia-dalla-eliminazione-virale-alla-mafld-e-h
 cc/
SUMMARY:XIV CONVEGNO NAZIONALE CLEO - GLI SCENARI POST PANDEMICI DELL’EPA
 TOLOGIA  Dalla eliminazione virale  alla MAFLD e HCC
DESCRIPTION:-DEF- BROCHURE NAPOLI ottobre 2022\nLe novità scientifiche\, f
 rutto della continua evoluzione del sapere\, costante aggiornamento del me
 dico per la gestione multidisciplinare dell’ epatopaziente. Queste probl
 ematiche saranno ampiamente trattate durante il Convegno sotto l’egida d
 el CLEO con il contributo di esperti di rilievo nazionale ed internazional
 e.
CATEGORIES:*ECM2022,Anatomia patologica,Biologo,Chirurgia
 generale,Epidemiologia,Farmacia
 ospedaliera,Gastroenterologia,Geriatria,Igiene, epidemiologia e sanità
 pubblica,Malattie infettive,Malattie metaboliche e diabetologia,Medicina
 di comunità,Medicina generale (medici di famiglia),Medicina
 interna,Microbiologia e virologia,Oncologia,Patologia
 clinica,Radiodiagnostica,Radioterapia
LOCATION:Aula Magna del Complesso Didattico di  Santa Patrizia  Università
  degli Studi della Campania Luigi Vanvitelli\, via Luciano Armanni n. 5 \,
  NAPOLI\, NA\, CAMPANIA\, Italia
X-APPLE-STRUCTURED-LOCATION;VALUE=URI;X-ADDRESS=via Luciano Armanni n. 5 \,
  NAPOLI\, NA\, CAMPANIA\, Italia;X-APPLE-RADIUS=100;X-TITLE=Aula Magna del
  Complesso Didattico di  Santa Patrizia  Università degli Studi della Cam
 pania Luigi Vanvitelli:geo:0,0
END:VEVENT
END:VCALENDAR