BEGIN:VCALENDAR
VERSION:2.0
PRODID:-//wp-events-plugin.com//6.6.4.4//EN
BEGIN:VEVENT
UID:289@strategieonweb.it
DTSTART:20171202T060000Z
DTEND:20171202T120000Z
DTSTAMP:20171023T105909Z
URL:https://www.strategieonweb.it/ecm/pescara-uso-conservativo-verso-uso-e
 stensivo-degli-antibiotici-degli-antimicotici-prospettiva-indifferibile-co
 ntrollo-dei-germi-mdr/
SUMMARY:PESCARA - USO CONSERVATIVO VERSO USO ESTENSIVO DEGLI ANTIBIOTICI E 
 DEGLI ANTIMICOTICI: UNA PROSPETTIVA INDIFFERIBILE PER IL CONTROLLO DEI GER
 MI MDR
DESCRIPTION:BROCHURE PARRUTI 2 DICEMBRE 2017
CATEGORIES:Allergologia e immunologia clinica,Anatomia
 patologica,Anestesia e rianimazione,Biochimica clinica,Biologo,Chirurgia
 generale,Chirurgia toracica,Continuità assistenziale,Direzione medica di
 presidio ospedaliero,Ematologia,Epidemiologia,Farmacia
 ospedaliera,Geriatria,Igiene, epidemiologia e sanità
 pubblica,Infermieri,Malattie dell'apparato respiratorio,Malattie
 infettive,Malattie metaboliche e diabetologia,Medicina del lavoro e
 sicurezza degli abienti di lavoro,Medicina di comunità,Medicina e
 chirurgia di accettazione e di urgenza,Medicina generale (medici di
 famiglia),Medicina interna,Microbiologia e
 virologia,Nefrologia,Oncologia,Patologia clinica,Reumatologia,Tecnico di
 laboratorio biometrico
LOCATION:AULA MAGNA OSPEDALE CIVILE\, VIA R. PAOLUCCI \, PESCARA\, PE\, 651
 00\, ABRUZZO\, Italia
GEO:42.46487870000001;14.217947600000002
X-APPLE-STRUCTURED-LOCATION;VALUE=URI;X-ADDRESS=VIA R. PAOLUCCI \, PESCARA\
 , PE\, 65100\, ABRUZZO\, Italia;X-APPLE-RADIUS=100;X-TITLE=AULA MAGNA OSPE
 DALE CIVILE:geo:42.46487870000001,14.217947600000002
END:VEVENT
END:VCALENDAR