BEGIN:VCALENDAR
VERSION:2.0
PRODID:-//wp-events-plugin.com//6.6.4.4//EN
BEGIN:VEVENT
UID:540@strategieonweb.it
DTSTART:20260130T070000Z
DTEND:20260130T140000Z
DTSTAMP:20251124T112827Z
URL:https://www.strategieonweb.it/ecm/pescara-trauma-update-i-incontro-2/
SUMMARY:PESCARA TRAUMA UPDATE I° INCONTRO
DESCRIPTION:  -- Brochure Pescara Trauma (1)
CATEGORIES:*ECM2026,Anestesia e rianimazione,Angiologia,Chirurgia
 generale,Chirurgia maxillo-facciale,Chirurgia toracica,Continuità
 assistenziale,Geriatria,Infermieri,Malattie infettive,Medicina e chirurgia
 di accettazione e di urgenza,Medicina interna,Medicina
 trasfusionale,Microbiologia e
 virologia,Neurochirurgia,Neurologia,Odontoiatra,Radiodiagnostica,Tecnico
 della fisiopatologia cardiocircolatoria e perfusione cardiovascolare
LOCATION:AULA MAGNA OSPEDALE CIVILE\, VIA R. PAOLUCCI \, PESCARA\, PE\, 651
 00\, ABRUZZO\, Italia
GEO:42.46487870000001;14.217947600000002
X-APPLE-STRUCTURED-LOCATION;VALUE=URI;X-ADDRESS=VIA R. PAOLUCCI \, PESCARA\
 , PE\, 65100\, ABRUZZO\, Italia;X-APPLE-RADIUS=100;X-TITLE=AULA MAGNA OSPE
 DALE CIVILE:geo:42.46487870000001,14.217947600000002
END:VEVENT
END:VCALENDAR