BEGIN:VCALENDAR
VERSION:2.0
PRODID:-//wp-events-plugin.com//6.6.4.4//EN
BEGIN:VEVENT
UID:298@strategieonweb.it
DTSTART:20170223T063000Z
DTEND:20171223T160000Z
DTSTAMP:20171205T192649Z
URL:https://www.strategieonweb.it/ecm/milano-carcinoma-della-tiroide-alla-
 prova-delle-nuove-linee-guida/
SUMMARY:MILANO - IL CARCINOMA DELLA TIROIDE ALLA PROVA DELLE NUOVE LINEE GU
 IDA
DESCRIPTION:PER LE ISCRIZIONI CONTATTARE  FORMAZIONE@PEPEROSSO.IT
CATEGORIES:Medicina nucleare,Oncologia,Radiodiagnostica,Radioterapia
LOCATION:ISTITUTO TUMORI\, VIA VENEZIAN 1\, MILANO\, MI\, 20100\, LOMBARDIA
  \, Italia
GEO:45.4746616;9.232149800000002
X-APPLE-STRUCTURED-LOCATION;VALUE=URI;X-ADDRESS=VIA VENEZIAN 1\, MILANO\, M
 I\, 20100\, LOMBARDIA \, Italia;X-APPLE-RADIUS=100;X-TITLE=ISTITUTO TUMORI
 :geo:45.4746616,9.232149800000002
END:VEVENT
END:VCALENDAR