BEGIN:VCALENDAR
VERSION:2.0
PRODID:-//wp-events-plugin.com//6.6.4.4//EN
BEGIN:VEVENT
UID:546@strategieonweb.it
DTSTART:20260508T120000Z
DTEND:20260509T120000Z
DTSTAMP:20260423T164139Z
URL:https://www.strategieonweb.it/ecm/malattia-venosa-cronica-cosa-cercare
 -e-come-gestirla/
SUMMARY:MALATTIA VENOSA CRONICA COSA CERCARE E COME GESTIRLA
DESCRIPTION:SENIGALLIA PDF 2026 
CATEGORIES:*ECM2026,Angiologia,Cardiologia,Chirurgia generale,Chirurgia
 vascolare,Geriatria,Malattie metaboliche e diabetologia,Medicina generale
 (medici di famiglia),Medicina interna
LOCATION:HOTEL TERRAZZA MARCONI\, L.GO MARE MARCONI 37\, SENIGALLIA\, AN\, 
 MARCHE\, Italia
X-APPLE-STRUCTURED-LOCATION;VALUE=URI;X-ADDRESS=L.GO MARE MARCONI 37\, SENI
 GALLIA\, AN\, MARCHE\, Italia;X-APPLE-RADIUS=100;X-TITLE=HOTEL TERRAZZA MA
 RCONI:geo:0,0
END:VEVENT
END:VCALENDAR