BEGIN:VCALENDAR
VERSION:2.0
PRODID:-//wp-events-plugin.com//6.6.4.4//EN
BEGIN:VEVENT
UID:533@strategieonweb.it
DTSTART:20251129T070000Z
DTEND:20251129T150000Z
DTSTAMP:20251018T100412Z
URL:https://www.strategieonweb.it/ecm/le-nuove-frontiere-delloncologia-med
 ica/
SUMMARY:LE NUOVE FRONTIERE DELL’ONCOLOGIA MEDICA
DESCRIPTION:\n-- Chieti 29 novembre nuove frontiere
CATEGORIES:*ECM2025,Anatomia patologica,Anestesia e
 rianimazione,Biologo,Chirurgia generale,Chirurgia plastica e
 ricostruttiva,Chirurgia toracica,Farmacia
 ospedaliera,Gastroenterologia,Genetica medica,Ginecologia e
 ostetricia,Infermieri,Medicina generale (medici di famiglia),Medicina
 interna,Oncologia,Patologia clinica,Radiodiagnostica,Urologia
LOCATION:AUDITORIUM C/O RETTORATO\, VIA DEI VESTINI\, 31\, CHIETI\, CHIETI\
 , Italia
X-APPLE-STRUCTURED-LOCATION;VALUE=URI;X-ADDRESS=VIA DEI VESTINI\, 31\, CHIE
 TI\, CHIETI\, Italia;X-APPLE-RADIUS=100;X-TITLE=AUDITORIUM C/O RETTORATO:g
 eo:0,0
END:VEVENT
END:VCALENDAR