BEGIN:VCALENDAR
VERSION:2.0
PRODID:-//wp-events-plugin.com//6.6.4.4//EN
BEGIN:VEVENT
UID:139@strategieonweb.it
DTSTART:20160919T120000Z
DTEND:20160919T160000Z
DTSTAMP:20160622T103126Z
URL:https://www.strategieonweb.it/ecm/belluno-roadshow-immuno-oncology-mee
 t-the-expert-nel-trattamento-del-carcinoma-polmonare/
SUMMARY:BELLUNO - ROADSHOW IN IMMUNO ONCOLOGY : MEET THE EXPERT NEL TRATTAM
 ENTO DEL CARCINOMA POLMONARE
DESCRIPTION:BROCHURE BELLUNO
CATEGORIES:Anatomia patologica,Chirurgia toracica,Cure palliative,Farmacia
 ospedaliera,Malattie dell'apparato respiratorio,Oncologia,Radioterapia
LOCATION:AULA FORMATIVA OSPEDALE SAN MARTINO\, Viale Europa\, 22\, BELLUNO\
 , BL\, VENETO\, Italia
GEO:46.13591210000001;12.199299300000007
X-APPLE-STRUCTURED-LOCATION;VALUE=URI;X-ADDRESS=Viale Europa\, 22\, BELLUNO
 \, BL\, VENETO\, Italia;X-APPLE-RADIUS=100;X-TITLE=AULA FORMATIVA OSPEDALE
  SAN MARTINO:geo:46.13591210000001,12.199299300000007
END:VEVENT
END:VCALENDAR