BEGIN:VCALENDAR
VERSION:2.0
PRODID:-//wp-events-plugin.com//6.6.4.4//EN
BEGIN:VEVENT
UID:534@strategieonweb.it
DTSTART:20251108T070000Z
DTEND:20251108T110000Z
DTSTAMP:20251018T101434Z
URL:https://www.strategieonweb.it/ecm/approccio-integrato-al-paziente-con-
 disturbo-neurocognitivo-con-comorbilita-depressiva-2/
SUMMARY:APPROCCIO INTEGRATO AL PAZIENTE CON DISTURBO NEUROCOGNITIVO CON COM
 ORBILITÀ DEPRESSIVA
DESCRIPTION:\n-- Brochure MONTEGRANARO 8 NOVEMBRE
CATEGORIES:*ECM2025,Geriatria,Medicina generale (medici di
 famiglia),Medicina interna,Neurochirurgia,Psichiatria
LOCATION:HOTEL HORIZON\, VEREGRENSE STRADA PROVINCIALE 94\, 567\, MONTEGRAN
 ARO\, FERMO\, MARCHE\, Italia
GEO:43.2455236;13.651028900000028
X-APPLE-STRUCTURED-LOCATION;VALUE=URI;X-ADDRESS=VEREGRENSE STRADA PROVINCIA
 LE 94\, 567\, MONTEGRANARO\, FERMO\, MARCHE\, Italia;X-APPLE-RADIUS=100;X-
 TITLE=HOTEL HORIZON:geo:43.2455236,13.651028900000028
END:VEVENT
END:VCALENDAR